BEGIN:VCALENDAR
VERSION:2.0
PRODID:-//81.169.145.156//NONSGML kigkonsult.se iCalcreator 2.20//
CALSCALE:GREGORIAN
METHOD:PUBLISH
X-WR-TIMEZONE:Europe/Berlin
BEGIN:VEVENT
UID:event760@Volleyball in Sulingen
DTSTAMP:20260423T175547Z
CATEGORIES:Mannschaftsfoto
DESCRIPTION:Fototermin 1. Herren\nKategorie: Mannschaftsfoto\nICS-Link: htt
 ps://www.volleyball-sulingen.de/Joomla/index.php?option=com_jem&view=event
 &id=760:fototermin-1-herren\n
DTSTART;TZID=Europe/Berlin:20230828T190000
DTEND;TZID=Europe/Berlin:20230828T194500
LOCATION:Gymnasiumsporthalle\,Schmelingstraße 37\,27232 Sulingen
SUMMARY:Fototermin 1. Herren
URL:https://www.volleyball-sulingen.de/Joomla/index.php?option=com_jem&view
 =event&id=760:fototermin-1-herren
END:VEVENT
END:VCALENDAR