BEGIN:VCALENDAR
VERSION:2.0
PRODID:-//81.169.145.156//NONSGML kigkonsult.se iCalcreator 2.20//
CALSCALE:GREGORIAN
METHOD:PUBLISH
X-WR-TIMEZONE:Europe/Berlin
BEGIN:VEVENT
UID:event773@Volleyball in Sulingen
DTSTAMP:20260423T214420Z
CATEGORIES:Spieltage
DESCRIPTION:Heimspiele 3. Damen\nKategorie: Spieltage\nICS-Link: https://ww
 w.volleyball-sulingen.de/Joomla/index.php?option=com_jem&view=event&id=773
 :heimspiele-3-damen\n
DTSTART;TZID=Europe/Berlin:20231111T150000
DTEND;TZID=Europe/Berlin:20231111T203000
LOCATION:Gymnasiumsporthalle\,Schmelingstraße 37\,27232 Sulingen
SUMMARY:Heimspiele 3. Damen
URL:https://www.volleyball-sulingen.de/Joomla/index.php?option=com_jem&view
 =event&id=773:heimspiele-3-damen
END:VEVENT
END:VCALENDAR