BEGIN:VCALENDAR
VERSION:2.0
PRODID:-//81.169.145.156//NONSGML kigkonsult.se iCalcreator 2.20//
CALSCALE:GREGORIAN
METHOD:PUBLISH
X-WR-TIMEZONE:Europe/Berlin
BEGIN:VEVENT
UID:event732@Volleyball in Sulingen
DTSTAMP:20260423T105157Z
CATEGORIES:Turniere
DESCRIPTION:Beachturnier 2022\nKategorie: Turniere\nICS-Link: https://www.v
 olleyball-sulingen.de/Joomla/index.php?option=com_jem&view=event&id=732:be
 ach-2022\n
DTSTART;TZID=Europe/Berlin:20220827T130000
DTEND;TZID=Europe/Berlin:20220827T220000
LOCATION:Sportpark Sulingen\,27232 Sulingen
SUMMARY:Beachturnier 2022
URL:https://www.volleyball-sulingen.de/Joomla/index.php?option=com_jem&view
 =event&id=732:beach-2022
END:VEVENT
END:VCALENDAR