BEGIN:VCALENDAR
VERSION:2.0
PRODID:-//81.169.145.156//NONSGML kigkonsult.se iCalcreator 2.20//
CALSCALE:GREGORIAN
METHOD:PUBLISH
X-WR-TIMEZONE:Europe/Berlin
BEGIN:VEVENT
UID:event92@Volleyball in Sulingen
DTSTAMP:20260419T182348Z
CATEGORIES:Mannschaftsfoto
DESCRIPTION:Mannschaftsfoto I. Herren\nKategorie: Mannschaftsfoto\nICS-Link
 : https://www.volleyball-sulingen.de/Joomla/index.php?option=com_jem&view=
 event&id=92:mannschaftsfoto\n
DTSTART;TZID=Europe/Berlin:20100903T190000
DTEND;TZID=Europe/Berlin:20100903T203000
LOCATION:Gymnasiumsporthalle\,Schmelingstraße 37\,27232 Sulingen
SUMMARY:Mannschaftsfoto I. Herren
URL:https://www.volleyball-sulingen.de/Joomla/index.php?option=com_jem&view
 =event&id=92:mannschaftsfoto
END:VEVENT
END:VCALENDAR